BEGIN:VCALENDAR
PRODID:-//PUBBLE//agenda//NL
VERSION:2.0
METHOD:PUBLISH
BEGIN:VEVENT
DTSTART:20260424T000000Z
DTEND:20260927T000000Z
DTSTAMP:20260420T042301Z
UID:8266b7a8-7f09-48ab-97be-8ba37cf39534
CREATED:20260420T042301Z
NAME:Zeilmaatjes weekend voor ervaren zeilers grootdefryskemarren.nl
X-WR-CALNAME:Zeilmaatjes weekend voor ervaren zeilers
X-ALT-DESC;FMTTYPE=text/html:<a href='/agenda/2026/4/24/zeilmaatjes-weekend-voor-ervaren-zeilers-128956'>/agenda/2026/4/24/zeilmaatjes-weekend-voor-ervaren-zeilers-128956</a> || <p>Zin in een weekend zeilen én nieuwe mensen ontmoeten? Tijdens de <strong>Zeilmaatjes-weekenden</strong> van De Ûlepanne stap je aan boord met andere enthousiaste zeilers en ontdek je samen de Friese meren. Dit arrangement is speciaal voor zeilers met minimaal CWO II-niveau die zelfstandig willen varen, zonder les maar mét gezelligheid en samenwerking.</p>
<p>Overdag trek je er samen op uit en bepaal je met je bemanning de koers. Van smalle vaarten tot open meren: Friesland ligt aan je voeten. Tussen het zeilen door is er tijd om aan te leggen voor lunch of een drankje, terwijl je ’s avonds samen terugkomt op de zeilschool. Daar geniet je van een goede maaltijd, maak je plannen voor de volgende dag en deel je verhalen aan de bar.</p>
<p>Je verblijft in een sfeervolle accommodatie op het terrein van De Ûlepanne, met uitzicht op het water of de omliggende weilanden. Of je nu alleen komt of met een vriend(in), dit weekend draait om <strong>vrijheid, samen zeilen en nieuwe ontmoetingen</strong>. Even helemaal weg, met de wind in de zeilen en Friesland als decor.</p>
DESCRIPTION:<a href='/agenda/2026/4/24/zeilmaatjes-weekend-voor-ervaren-zeilers-128956'>/agenda/2026/4/24/zeilmaatjes-weekend-voor-ervaren-zeilers-128956</a> || <p>Zin in een weekend zeilen én nieuwe mensen ontmoeten? Tijdens de <strong>Zeilmaatjes-weekenden</strong> van De Ûlepanne stap je aan boord met andere enthousiaste zeilers en ontdek je samen de Friese meren. Dit arrangement is speciaal voor zeilers met minimaal CWO II-niveau die zelfstandig willen varen, zonder les maar mét gezelligheid en samenwerking.</p>
<p>Overdag trek je er samen op uit en bepaal je met je bemanning de koers. Van smalle vaarten tot open meren: Friesland ligt aan je voeten. Tussen het zeilen door is er tijd om aan te leggen voor lunch of een drankje, terwijl je ’s avonds samen terugkomt op de zeilschool. Daar geniet je van een goede maaltijd, maak je plannen voor de volgende dag en deel je verhalen aan de bar.</p>
<p>Je verblijft in een sfeervolle accommodatie op het terrein van De Ûlepanne, met uitzicht op het water of de omliggende weilanden. Of je nu alleen komt of met een vriend(in), dit weekend draait om <strong>vrijheid, samen zeilen en nieuwe ontmoetingen</strong>. Even helemaal weg, met de wind in de zeilen en Friesland als decor.</p>
LAST-MODIFIED:20260420T042301Z
LOCATION: De Ulepanne | Tsjamkedykje 1 Balk
SEQUENCE:0
STATUS:CONFIRMED
SUMMARY:Zeilmaatjes weekend voor ervaren zeilers
TRANSP:OPAQUE
END:VEVENT
END:VCALENDAR
