BEGIN:VCALENDAR
PRODID:-//PUBBLE//agenda//NL
VERSION:2.0
METHOD:PUBLISH
BEGIN:VEVENT
DTSTART:20250503T152900Z
DTEND:20250503T150000Z
DTSTAMP:20260422T102216Z
UID:36501fe4-88aa-4bbd-aba5-afa6f75e2da9
CREATED:20260422T102216Z
NAME:Berneboartersdei in Openluchtmuseum it Damshûs grootdefryskemarren.nl
X-WR-CALNAME:Berneboartersdei in Openluchtmuseum it Damshûs
X-ALT-DESC;FMTTYPE=text/html:<a href='/agenda/2025/5/3/berneboartersdei-in-openluchtmuseum-it-damshus-109049'>/agenda/2025/5/3/berneboartersdei-in-openluchtmuseum-it-damshus-109049</a> || <p><strong>NIJ BEETS - Twee dagen na de seizoensopening op 1 mei van Openluchtmuseum it Damshûs wordt als eerste activiteit de berneboartersdei georganiseerd. De boartersdei is een speeldoedag voor de basisschoolkinderen en het thema dit jaar is: “Hân yn hân mei Pake en Beppe nei de boartersdei”. &nbsp;</strong></p><p>Je kan rondvaren in een tobbe, of met zijn allen in de oude turfbok een tochtje maken in de petgaten op het terrein en de oude sluis gaan bewonderen. De schipper geeft tekst uitleg tijdens dit vaartochtje over wat er te doen en te zien is in en om de petgaten, en hoe de sluis zijn hele belangrijke werk doet.</p><p>Maar er is veel meer, je kunt je laten schminken dan zie je de hele dag er heel feestelijk uit, of spelletjes doen. Luisteren naar de spannende verhalen van de verhalenverteller en daarna lekker zwieren in de draaimolen. Of kijken naar de toneelstukjes die worden gehouden bij de oude huisjes waar het er soms heftig en spannend aan toegaat. Ook de knutseltafel ontbreekt dit jaar niet, je kunt er kleien timmeren, en nog veel meer.</p><p>Net als vorige jaar zijn de mensen van de altijd fleurige “Blom bij Beets” ook weer van de partij en wordt er weer een open muziekpodium georganiseerd voor alle muzikale kinderen, heiten, memmen en pakes en beppes. Aan eten, drinken en snoepen is ook gedacht. Er zijn poffertjes, limonade en ander lekkers. Volwassenen kunnen, onder het genot van een kopje koffie met wat lekkers, genieten van hun kinderen.</p><p>Alles bij elkaar is Boartersdei voor kinderen (en hun pakes en beppes en heiten en memmen) misschien wel de leukste dag van de zomer. Het is in ieder geval een dag waarbij je je helemaal kunt uitleven tot je geen puf meer hebt. Want als iedereen erbij is, is Boartersdei pas op zijn aller-aller-leukst!&nbsp;</p><p>Boartersdei is dit jaar op zaterdag 3 mei van 11.00 tot 17.00 uur. De entree bedraagt € 5.00 voor volwassenen en voor kinderen. &nbsp;Voor meer informatie: <a href="//www.damshus.nl" rel="noopener noreferrer" target="_blank">www.damshus.nl</a>.</p><p>Hopelijk wordt het mooi weer zodat iedereen kan genieten van de buitenlucht en het water.</p>
DESCRIPTION:<a href='/agenda/2025/5/3/berneboartersdei-in-openluchtmuseum-it-damshus-109049'>/agenda/2025/5/3/berneboartersdei-in-openluchtmuseum-it-damshus-109049</a> || <p><strong>NIJ BEETS - Twee dagen na de seizoensopening op 1 mei van Openluchtmuseum it Damshûs wordt als eerste activiteit de berneboartersdei georganiseerd. De boartersdei is een speeldoedag voor de basisschoolkinderen en het thema dit jaar is: “Hân yn hân mei Pake en Beppe nei de boartersdei”. &nbsp;</strong></p><p>Je kan rondvaren in een tobbe, of met zijn allen in de oude turfbok een tochtje maken in de petgaten op het terrein en de oude sluis gaan bewonderen. De schipper geeft tekst uitleg tijdens dit vaartochtje over wat er te doen en te zien is in en om de petgaten, en hoe de sluis zijn hele belangrijke werk doet.</p><p>Maar er is veel meer, je kunt je laten schminken dan zie je de hele dag er heel feestelijk uit, of spelletjes doen. Luisteren naar de spannende verhalen van de verhalenverteller en daarna lekker zwieren in de draaimolen. Of kijken naar de toneelstukjes die worden gehouden bij de oude huisjes waar het er soms heftig en spannend aan toegaat. Ook de knutseltafel ontbreekt dit jaar niet, je kunt er kleien timmeren, en nog veel meer.</p><p>Net als vorige jaar zijn de mensen van de altijd fleurige “Blom bij Beets” ook weer van de partij en wordt er weer een open muziekpodium georganiseerd voor alle muzikale kinderen, heiten, memmen en pakes en beppes. Aan eten, drinken en snoepen is ook gedacht. Er zijn poffertjes, limonade en ander lekkers. Volwassenen kunnen, onder het genot van een kopje koffie met wat lekkers, genieten van hun kinderen.</p><p>Alles bij elkaar is Boartersdei voor kinderen (en hun pakes en beppes en heiten en memmen) misschien wel de leukste dag van de zomer. Het is in ieder geval een dag waarbij je je helemaal kunt uitleven tot je geen puf meer hebt. Want als iedereen erbij is, is Boartersdei pas op zijn aller-aller-leukst!&nbsp;</p><p>Boartersdei is dit jaar op zaterdag 3 mei van 11.00 tot 17.00 uur. De entree bedraagt € 5.00 voor volwassenen en voor kinderen. &nbsp;Voor meer informatie: <a href="//www.damshus.nl" rel="noopener noreferrer" target="_blank">www.damshus.nl</a>.</p><p>Hopelijk wordt het mooi weer zodat iedereen kan genieten van de buitenlucht en het water.</p>
LAST-MODIFIED:20260422T102216Z
LOCATION: Openluchtmuseum It Damshûs | Domela Nieuwenhuisweg 59B Nij Beets
SEQUENCE:0
STATUS:CONFIRMED
SUMMARY:Berneboartersdei in Openluchtmuseum it Damshûs
TRANSP:OPAQUE
END:VEVENT
END:VCALENDAR
