BEGIN:VCALENDAR
PRODID:-//PUBBLE//agenda//NL
VERSION:2.0
METHOD:PUBLISH
BEGIN:VEVENT
DTSTART:20250425T080000Z
DTEND:20250425T150000Z
DTSTAMP:20260420T140048Z
UID:dd2e2f98-37eb-405c-a8c0-59683ceb76f7
CREATED:20260420T140048Z
NAME:Expositie Tijd in beweging: De techniek van de Friese klok grootdefryskemarren.nl
X-WR-CALNAME:Expositie Tijd in beweging: De techniek van de Friese klok
X-ALT-DESC;FMTTYPE=text/html:<a href='/agenda/2025/4/25/expositie-tijd-in-beweging-de-techniek-van-de-friese-klok-108078'>/agenda/2025/4/25/expositie-tijd-in-beweging-de-techniek-van-de-friese-klok-108078</a> || <p><strong>Van 25 april t/m 25 oktober 2025 organiseert Museum Joure een speciale expositie over de geschiedenis, techniek en moderne interpretatie van de Friese klok. Onder de titel <em>‘Tijd in beweging: De techniek van de Friese klok’</em>&nbsp; toont de tentoonstelling een unieke selectie van historische Friese uurwerken, hedendaagse creaties van Jouster klokkenmakers en innovatieve klokken geïnspireerd op het Friese uurwerk.</strong></p>
<p><strong>Dóór de tijd, in de bijzondere techniek <br /></strong>In de expositie reizen bezoekers letterlijk dóór de tijd. Aan de hand van maar liefst 15 uurwerken duik je in de bijzondere techniek die Friese stoel- en staartklokken in beweging brengt. Daarbij ontdek je unieke technische kenmerken, zoals het zaagslagwerk, een vierde rad en de wekkerrem. Het verhaal wordt voor iedereen – van techniekliefhebbers tot kinderen – toegankelijk en visueel aantrekkelijk gepresenteerd.</p>
<p><strong>Zelf aan de slag</strong> <br />Om de werking van Friese uurwerken nog beter te begrijpen, kunnen bezoekers aan de slag met twee interactieve objecten. Deze laten uitvergroot de techniek van de spillegang (stoelklok) en ankergang (staartklok) zien.</p>
<p><strong>Van traditie naar innovatie</strong><br />Naast historische Friese klokken bewonder je het werk van vier hedendaagse Jouster klokkenmakers: Dennis Canrinus, Jacob ten Hoeve, Johan ten Hoeve en Freerk Pasveer. Hun creaties verbinden eeuwenoude technieken met moderne ontwerpen. Ook zijn er ontwerpen van Koos van der Sloot te zien, die op een meer poëtische wijze naar de klok keek. &nbsp;&nbsp;</p>
<p><strong>Activiteiten rondom de expositie<br /></strong>Rondom de expositie worden diverse activiteiten georganiseerd, waaronder:</p>
<ul>
<li><strong>Klok en Kitsch-sessies:</strong>&nbsp;Ontdek met een Jouster klokkenmaker het verhaal achter je eigen klok.</li>
<li><strong>Workshops klokonderhoud:</strong>&nbsp;Leer hoe je een Friese klok op slag brengt en wanneer restauratie nodig is.</li>
<li><strong>Klokken kuierke:</strong>&nbsp;Een unieke rondleiding langs klokkenwinkels, historische plekken en het museum.</li>
<li><strong>Rondleidingen en lezingen door specialisten:</strong>&nbsp;Duik dieper in de techniek en geschiedenis van Friese klokken met experts.</li>
<li><strong>Voor kinderen </strong>zijn er diverse doe-dingen in het museum.&nbsp;</li>
</ul>
<p>‘Tijd in beweging: De techniek van de Friese klok’biedt een verrassende kijk op een belangrijk onderdeel van de Friese geschiedenis en vakmanschap. Of je nu houdt van geschiedenis, techniek of design: deze expositie is een must-see! Meer op <a href="http://www.museumjoure.nl/tijd-in-beweging" target="_blank">www.museumjoure.nl/tijd-in-beweging</a>.&nbsp;</p>
DESCRIPTION:<a href='/agenda/2025/4/25/expositie-tijd-in-beweging-de-techniek-van-de-friese-klok-108078'>/agenda/2025/4/25/expositie-tijd-in-beweging-de-techniek-van-de-friese-klok-108078</a> || <p><strong>Van 25 april t/m 25 oktober 2025 organiseert Museum Joure een speciale expositie over de geschiedenis, techniek en moderne interpretatie van de Friese klok. Onder de titel <em>‘Tijd in beweging: De techniek van de Friese klok’</em>&nbsp; toont de tentoonstelling een unieke selectie van historische Friese uurwerken, hedendaagse creaties van Jouster klokkenmakers en innovatieve klokken geïnspireerd op het Friese uurwerk.</strong></p>
<p><strong>Dóór de tijd, in de bijzondere techniek <br /></strong>In de expositie reizen bezoekers letterlijk dóór de tijd. Aan de hand van maar liefst 15 uurwerken duik je in de bijzondere techniek die Friese stoel- en staartklokken in beweging brengt. Daarbij ontdek je unieke technische kenmerken, zoals het zaagslagwerk, een vierde rad en de wekkerrem. Het verhaal wordt voor iedereen – van techniekliefhebbers tot kinderen – toegankelijk en visueel aantrekkelijk gepresenteerd.</p>
<p><strong>Zelf aan de slag</strong> <br />Om de werking van Friese uurwerken nog beter te begrijpen, kunnen bezoekers aan de slag met twee interactieve objecten. Deze laten uitvergroot de techniek van de spillegang (stoelklok) en ankergang (staartklok) zien.</p>
<p><strong>Van traditie naar innovatie</strong><br />Naast historische Friese klokken bewonder je het werk van vier hedendaagse Jouster klokkenmakers: Dennis Canrinus, Jacob ten Hoeve, Johan ten Hoeve en Freerk Pasveer. Hun creaties verbinden eeuwenoude technieken met moderne ontwerpen. Ook zijn er ontwerpen van Koos van der Sloot te zien, die op een meer poëtische wijze naar de klok keek. &nbsp;&nbsp;</p>
<p><strong>Activiteiten rondom de expositie<br /></strong>Rondom de expositie worden diverse activiteiten georganiseerd, waaronder:</p>
<ul>
<li><strong>Klok en Kitsch-sessies:</strong>&nbsp;Ontdek met een Jouster klokkenmaker het verhaal achter je eigen klok.</li>
<li><strong>Workshops klokonderhoud:</strong>&nbsp;Leer hoe je een Friese klok op slag brengt en wanneer restauratie nodig is.</li>
<li><strong>Klokken kuierke:</strong>&nbsp;Een unieke rondleiding langs klokkenwinkels, historische plekken en het museum.</li>
<li><strong>Rondleidingen en lezingen door specialisten:</strong>&nbsp;Duik dieper in de techniek en geschiedenis van Friese klokken met experts.</li>
<li><strong>Voor kinderen </strong>zijn er diverse doe-dingen in het museum.&nbsp;</li>
</ul>
<p>‘Tijd in beweging: De techniek van de Friese klok’biedt een verrassende kijk op een belangrijk onderdeel van de Friese geschiedenis en vakmanschap. Of je nu houdt van geschiedenis, techniek of design: deze expositie is een must-see! Meer op <a href="http://www.museumjoure.nl/tijd-in-beweging" target="_blank">www.museumjoure.nl/tijd-in-beweging</a>.&nbsp;</p>
LAST-MODIFIED:20260420T140048Z
LOCATION: Onbekend | Museumstraat 2 Joure
SEQUENCE:0
STATUS:CONFIRMED
SUMMARY:Expositie Tijd in beweging: De techniek van de Friese klok
TRANSP:OPAQUE
END:VEVENT
END:VCALENDAR
